Workbook
Name _ftn1: 'Assessment Framework'!#REF!
Name _ftnref1: 'Assessment Framework'!#REF!

Sheet Assessment Framework
A1: Cambridge Connections Strategic Transport Plan
A2: Assessment framework
E4: Long list or transport ideas assessment | G4: Transport options assessment
A5: Category | B5: Criteria | C5: Measure of success | E5: Who | F5: How | G5: Who | H5: Measure | I5: How
A6: Investment Objectives | B6: To provide reliable freight and transport routes: - Aligning land use and transport planning to enable growth adjacent to strategic transport corridors - Managing congestion to keep people and freight moving efficiently - Enabling planned economic growth and employment - Supporting planned population growth | C6: Enabling 30 year growth strategy | E6: Project team | F6: Qualitative | G6: Project team | H6: Travel times on key routes | I6: Change in travel times on key routes (TBC) Info source: WRTM
B7: To make it easy to access key economic and social destinations by all transport modes (cars, buses, walking, cycling etc) | C7: Improved access to key destinations | E7: Project team | F7: Qualitative | G7: Project team | H7: Combined access measure to key services, education and employment locations | I7: Change in 'Combined Access Measure' Info source: WRTM + GIS Combined access index
B8: To improve the resilience of the transport system by: - Reducing the risk of network failures, including consideration of climate adaptation - Faster recovery from unplanned events - Reducing dependency on existing corridors and bridges | C8: Reduced vulnerability to weather and crash events | E8: Project team | F8: Qualitative | G8: Project team | H8: Availability of key routes | I8: Change in Average Annual Time of Closure (AATOC) on key routes due to unplanned events, e.g. slips, flooding, crashes Info sources: CRM, SME assessment of risk and duration of closures
B9: To provide a safe transport system by: - Reducing deaths and serious injuries - Improving community safety for public transport users, pedestrians and cyclists | C9: Reduction in deaths and serious injuries | E9: Project team | F9: Qualitative | G9: Project team | H9: Deaths and Serious Injuries (DSIs) | I9: Change in DSIs Info sources: WRTM + Crash Analysis system + MBCM
B10: To reduce the transport system’s impacts on surrounding communities and the environment by: - Supporting a more vibrant social town centre*(Ahu Ake p.98). - Manage parking - Reducing impacts of the transport network (noise, severance, air and water pollutants and vehicle kilometres travelled) - Protecting our natural and cultural taonga | C10: Alignment to the vision for the town centre as outlined in Ahu Ake Page 98 (Town Centre Concept Plan Refresh), and Transport Stategy | E10: Project team | F10: Qualitative | G10: Project team | H10: Qualitative | I10: The extent to which the option fulfills the desired outcomes and strategies for the town centre
C11: Reduction in Vehicle Kilometres Travelled (VKT) | E11: Project team | F11: Qualitative | G11: Project team | H11: Vehicle Kilometres Travelled (VKT) | I11: Change in VKT travelled (and emissions by proxy) Info source: WRTM
C12: Impacts on parking demand | E12: Project team | F12: Qualitative | G12: Project team | H12: Parking demand | I12: Change in parking demand Info source: Parking data
C13: Impacts on public parking supply | E13: Project team | F13: Qualitative | G13: Project team | H13: Public parking supply | I13: Change in parking availability Info source: Parking data
A14: Supporting growth and urban development | B14: Timing and sequencing reflect priorities | G14: Project team | H14: Qualitative | I14: The extent to which the option timing and sequencing reflects priorities
A15: Cost and value for money | B15: Capital cost | E15: Project team | F15: Qualitative | G15: Project team | H15: Capital cost | I15: Rough order capital cost estimate Info source: Unit rates and reference projects
B16: Maintenance and operating costs | G16: Project team | H16: Maintenance and operating cost | I16: Rough order maintenance and operating cost estimate Info source: Unit rates and reference projects
B17: Funding availability | G17: Project team | H17: Qualitative | I17: The extent to which funding is available
B18: Value for money | G18: Project team | H18: Benefit / Cost Ratio | I18: Benefit / Cost Ratio Info source: WRTM + MBCM
B19: Flexibility and adaptability to change Funding, programme and adaptability of the programme to change over time | E19: Project team | F19: Qualitative | G19: Project team | H19: Qualitative | I19: The extent to which the option is flexible and adaptable to change
A20: Feasibility | B20: Technical What are the technical practical considerations that may prevent an option from achieving the investment objectives? E.g. local site geography or eisting contracts? what are the technical risks involved in developing or implementing this option? | E20: Project team | F20: Qualitative | G20: Project team | H20: Qualitative | I20: The difficulty of implementing the option
B21: Consenting What is the level of complexity/difficulty? Are their risks of this adversely impacting on projects timeframes or other aspects of delivery? | E21: Wendy Robinson | F21: Qualitative | G21: Wendy Robinson | H21: Qualitative | I21: The extent to how difficult it would be to consent the option
B22: Safety Are there significant health and/or safety risks associated with the option in its design, implementation, operation or maintenance? Does this option comply with the safe system appproach? Can the risks be addressed in the design process to control it? | E22: Project team | F22: Qualitative | G22: Project team | H22: Qualitative | I22: The extent to which safety is affected by the option
A23: Impacts | B23: Social and cultural impacts | E23: TBC | F23: Qualitative | G23: TBC | H23: Qualitative | I23: The extent to which social and cultural considerations are affected by the option
B24: Environmental sustainability | E24: TBC | F24: Qualitative | G24: TBC | H24: Qualitative | I24: The extent to which environmental sustainability is affected by the option

Sheet Ideas that are progressing
A1: Cambridge Connections Strategic Transport Plan
A2: Long List Multi-Criteria Assessment
T4: 0>-3 | AF4: 0>-3 | AH4: 0>-3 | AJ4: 0>-3 | BC4: *Park = not progressed in this project unless circumstances change
A5: Ideas that are parked | G5: Investment objectives | R5: Supporting growth and urban development | T5: Cost and value for money | AF5: Feasibility | AM5: Impacts | AS5: Short List Options | AV5: Summary of scores | BC5: Decision
A6: Strategic Approach | B6: Themes | C6: Options | D6: Description | E6: Total Scores | G6: To provide reliable freight and transport routes | I6: To make it easy to access key economic and social destinations | K6: To improve the resilience of the transport system | M6: To provide a safe transport system | O6: To reduce the transport system’s impacts on surrounding communities and the environment | R6: Timing and sequencing reflect priorities | T6: Capital cost | V6: Maintenance and operating costs | X6: Funding availability | Z6: Effectiveness | AB6: Flexibility and adaptability to change | AF6: Technical | AH6: Consenting | AJ6: Safety | AM6: Social and cultural impacts | AO6: Environmental sustainability | AR6: Do Minimum | AV6: =G5 -> Investment objectives | AW6: =R5 -> Supporting growth and urban development | AX6: =T5 -> Cost and value for money | AY6: =AF5 -> Feasibility | AZ6: =AM5 -> Impacts | BA6: Total | BC6: Decision | BD6: Rationale
A7: INTEGRATED PLANNING | B7: Environment | C7: Climate resilient infrastructure design | D7: Assess vulnerabilities and incorporate resilience into all change projects. | E7: =BA7 -> 3 | G7: No change | H7: 0 | I7: No change | J7: 0 | K7: Makes an improvement to resilience just where new infrastructure is created/ upgraded | L7: 1 | M7: No change | N7: 0 | O7: Likely to reduce damage and future cost | P7: 1 | T7: $1-$5m | U7: =IF(T7=0,,(IF(T7='Scaling system'!$F$3,0,(IF(T7='Scaling system'!$F$4,-1,IF(T7='Scaling system'!$F$5,-2,IF(T7='Scaling system'!$F$6,-3))))))) -> -1 | AB7: Not a deciding factor | AC7: 0 | AF7: Expected approach | AG7: 0 | AH7: Expected approach | AI7: 0 | AJ7: Expected approach | AK7: 0 | AM7: Expected approach | AN7: 0 | AO7: Expected approach | AP7: 2 | AV7: =H7+J7+L7+N7+P7 -> 2 | AW7: =S7 -> 0 | AX7: =U7+AC7+W7+Y7+AA7 -> -1 | AY7: =AG7+AI7+AK7 -> 0 | AZ7: =AN7+AP7 -> 2 | BA7: =SUM(AV7:AZ7) -> 3 | BC7: Progress | BD7: This is an expected requirement for any new infrastructure.
C8: Cultural & Environmental Assessments - third bridge | D8: Incorporate cultural and environmental assessments as part of bridge location optioneering. | E8: =BA8 -> 8 | G8: Assists achievement | H8: 1 | I8: Assists achievement | J8: 1 | K8: Assists achievement | L8: 1 | M8: Assists achievement | N8: 1 | O8: Assists achievement | P8: 1 | T8: < $1m | U8: =IF(T8=0,,(IF(T8='Scaling system'!$F$3,0,(IF(T8='Scaling system'!$F$4,-1,IF(T8='Scaling system'!$F$5,-2,IF(T8='Scaling system'!$F$6,-3))))))) -> 0 | AB8: Assists achievement | AC8: 1 | AF8: Expected approach | AG8: 0 | AH8: Expected approach | AI8: 0 | AJ8: Expected approach | AK8: 0 | AM8: Expect improved outcomes | AN8: 1 | AO8: Expect improved outcomes | AP8: 1 | AV8: =H8+J8+L8+N8+P8 -> 5 | AW8: =S8 -> 0 | AX8: =U8+AC8+W8+Y8+AA8 -> 1 | AY8: =AG8+AI8+AK8 -> 0 | AZ8: =AN8+AP8 -> 2 | BA8: =SUM(AV8:AZ8) -> 8 | BC8: Progress | BD8: This is an expected requirement for any new infrastructure.
C9: Reduce emissions | D9: This appears to be an outcome sought rather than an idea. Note that ideas will be assessed against the investment objective of "[reducing] the transport system's impacts on surrounding communities and the environment". | E9: =BA9 -> 0 | U9: =IF(T9=0,,(IF(T9='Scaling system'!$F$3,0,(IF(T9='Scaling system'!$F$4,-1,IF(T9='Scaling system'!$F$5,-2,IF(T9='Scaling system'!$F$6,-3))))))) -> 0 | AV9: =H9+J9+L9+N9+P9 -> 0 | AW9: =S9 -> 0 | AX9: =U9+AC9+W9+Y9+AA9 -> 0 | AY9: =AG9+AI9+AK9 -> 0 | AZ9: =AN9+AP9 -> 0 | BA9: =SUM(AV9:AZ9) -> 0 | BC9: Park | BD9: Consideration - Emissions reduction would be considered as part of assessing contribution to the Investment Objective of "[reducing] the transport system's impacts on surrounding communities and the environment".
C10: Cultural design, identity and wayfinding | D10: Incorporate cultural design and wayfinding in built infrastructure. | E10: =BA10 -> 5 | G10: No change | H10: 0 | I10: Wayfinding supports easy access | J10: 1 | K10: No change | L10: 0 | M10: No change | N10: 0 | O10: Supports Ahu Ake goals, creates taonga | P10: 2 | T10: $1-$5m | U10: =IF(T10=0,,(IF(T10='Scaling system'!$F$3,0,(IF(T10='Scaling system'!$F$4,-1,IF(T10='Scaling system'!$F$5,-2,IF(T10='Scaling system'!$F$6,-3))))))) -> -1 | AB10: Assists achievement | AC10: 1 | AF10: Expected approach | AG10: 0 | AH10: Expected approach | AI10: 0 | AJ10: Expected approach | AK10: 0 | AM10: Positive impacts | AN10: 2 | AO10: Expected approach | AP10: 0 | AV10: =H10+J10+L10+N10+P10 -> 3 | AW10: =S10 -> 0 | AX10: =U10+AC10+W10+Y10+AA10 -> 0 | AY10: =AG10+AI10+AK10 -> 0 | AZ10: =AN10+AP10 -> 2 | BA10: =SUM(AV10:AZ10) -> 5 | BC10: Progress | BD10: This is an expected requirement for any new infrastructure.
B11: Land use and spatial planning | C11: Growth pays for growth | D11: Ensure there is full recovery of new infrastructure costs from new development. | E11: =BA11 -> 4 | G11: Will assist but unlikely to be fully achievable given legislative requirements of development contributions/levies | H11: 1 | I11: Can assist | J11: 1 | K11: Can assist | L11: 1 | M11: Can assist | N11: 1 | O11: Can assist | P11: 1 | T11: $1-$5m | U11: =IF(T11=0,,(IF(T11='Scaling system'!$F$3,0,(IF(T11='Scaling system'!$F$4,-1,IF(T11='Scaling system'!$F$5,-2,IF(T11='Scaling system'!$F$6,-3))))))) -> -1 | AB11: Can adapt to need over time | AC11: 2 | AF11: Expected approach | AG11: 0 | AH11: Full cost recovery open to significant challenges | AI11: -2 | AJ11: Expected approach | AK11: 0 | AM11: Expected approach | AN11: 0 | AO11: Expected approach | AP11: 0 | AV11: =H11+J11+L11+N11+P11 -> 5 | AW11: =S11 -> 0 | AX11: =U11+AC11+W11+Y11+AA11 -> 1 | AY11: =AG11+AI11+AK11 -> -2 | AZ11: =AN11+AP11 -> 0 | BA11: =SUM(AV11:AZ11) -> 4 | BC11: Progress | BD11: Progress to shortlist consideration.
C12: Local schools | D12: Local schools close to where people live, particularly in Leamington. | E12: =BA12 -> 10 | G12: Reduces need to travel by car, enables economic and population growth | H12: 1 | I12: Improves accessibility by non-car modes | J12: 2 | K12: Reduces dependency on existing corridors and bridges | L12: 1 | M12: Local travel may reduce exposure to risk | N12: 1 | O12: Supports vibrancy, reduces parking pressures, reduces VKT | P12: 2 | T12: < $1m | U12: =IF(T12=0,,(IF(T12='Scaling system'!$F$3,0,(IF(T12='Scaling system'!$F$4,-1,IF(T12='Scaling system'!$F$5,-2,IF(T12='Scaling system'!$F$6,-3))))))) -> 0 | AB12: Schools are a significant investment by MoE but good planning allows growth over time | AC12: 2 | AF12: Expected approach | AG12: 0 | AH12: Designating land for new schools is possible as part of growth but requires a strong Ministry of Education lead amidst competing priorities. | AI12: -3 | AJ12: Expected approach | AK12: 0 | AM12: Positive impacts on local community cohesion | AN12: 2 | AO12: Positive outcomes | AP12: 2 | AV12: =H12+J12+L12+N12+P12 -> 7 | AW12: =S12 -> 0 | AX12: =U12+AC12+W12+Y12+AA12 -> 2 | AY12: =AG12+AI12+AK12 -> -3 | AZ12: =AN12+AP12 -> 4 | BA12: =SUM(AV12:AZ12) -> 10 | BC12: Progress | BD12: Additional schools on the Leamington side would be a valuable planning option to reduce travel and improve growth outcomes, however Council can only lobby Ministry of Education for this outcome.
C13: Local services / medical / commercial centres | D13: Use planning tools to enable services, medical and commercial centres to locate to where people live, particularly in Leamington | E13: =BA13 -> 12 | G13: Reduces need to travel by car, enables economic and population growth | H13: 1 | I13: Improves accessibility by non-car modes | J13: 2 | K13: Reduces dependency on existing corridors | L13: 1 | M13: Local travel may reduce exposure to risk | N13: 1 | O13: Supports vibrancy, parking management, reduces VKT | P13: 2 | T13: < $1m | U13: =IF(T13=0,,(IF(T13='Scaling system'!$F$3,0,(IF(T13='Scaling system'!$F$4,-1,IF(T13='Scaling system'!$F$5,-2,IF(T13='Scaling system'!$F$6,-3))))))) -> 0 | AB13: Can adapt to need over time | AC13: 2 | AF13: Expected approach | AG13: 0 | AH13: Land use change and consenting can face challenges | AI13: -1 | AJ13: Expected approach | AK13: 0 | AM13: Positive impacts on local community cohesion | AN13: 2 | AO13: Positive outcomes | AP13: 2 | AV13: =H13+J13+L13+N13+P13 -> 7 | AW13: =S13 -> 0 | AX13: =U13+AC13+W13+Y13+AA13 -> 2 | AY13: =AG13+AI13+AK13 -> -1 | AZ13: =AN13+AP13 -> 4 | BA13: =SUM(AV13:AZ13) -> 12 | BC13: Progress | BD13: Progress to shortlist consideration.
C14: Integrated planning for growth | D14: Create a closer linkage between planned growth and transport infrastructure and services required to support that growth, e.g. greater housing density along bus routes. | E14: =BA14 -> 12 | G14: Aligns land use and transport planning. Focuses transport investment. | H14: 2 | I14: Would ensure key transport corridors were planned and developed in step with growth. | J14: 2 | K14: Provided investment keeps pace, there is greater chance of long term resilience. | L14: 2 | M14: Fewer main travel corridors built to good standards would promote safety | N14: 2 | O14: Confines transport impacts to key routes, thus reducing overall community impact. | P14: 2 | T14: $1-$5m | U14: =IF(T14=0,,(IF(T14='Scaling system'!$F$3,0,(IF(T14='Scaling system'!$F$4,-1,IF(T14='Scaling system'!$F$5,-2,IF(T14='Scaling system'!$F$6,-3))))))) -> -1 | AC14: 2 | AF14: Very broad landuse and transport planning can be challenging, but there are good models available. | AG14: -1 | AH14: Typically locked in via District Plan changes, requires consultation and submission processes | AI14: -2 | AJ14: Expected approach | AK14: 0 | AM14: Positive impacts on local community cohesion | AN14: 2 | AO14: Positive outcomes | AP14: 2 | AV14: =H14+J14+L14+N14+P14 -> 10 | AW14: =S14 -> 0 | AX14: =U14+AC14+W14+Y14+AA14 -> 1 | AY14: =AG14+AI14+AK14 -> -3 | AZ14: =AN14+AP14 -> 4 | BA14: =SUM(AV14:AZ14) -> 12 | BC14: Progress | BD14: Progress to shortlist consideration.
A15: INTEGRATED PLANNING CONT… | B15: Land use and spatial planning cont… | C15: Protect Cambridge's character, green spaces & amenity | D15: This appears to be an outcome sought rather than an idea. | E15: =BA15 -> 0 | U15: =IF(T15=0,,(IF(T15='Scaling system'!$F$3,0,(IF(T15='Scaling system'!$F$4,-1,IF(T15='Scaling system'!$F$5,-2,IF(T15='Scaling system'!$F$6,-3))))))) -> 0 | AV15: =H15+J15+L15+N15+P15 -> 0 | AW15: =S15 -> 0 | AX15: =U15+AC15+W15+Y15+AA15 -> 0 | AY15: =AG15+AI15+AK15 -> 0 | AZ15: =AN15+AP15 -> 0 | BA15: =SUM(AV15:AZ15) -> 0 | BC15: Park | BD15: Consideration - Impact on reserves and amenity would be considered as part of Social & Cultural Impacts in the assessment criteria.
C16: Route protection - additional bridge | D16: Complete the planning and designate a future bridge location so there is certainty for the growth and development of Cambridge. | E16: =BA16 -> 4 | G16: Early planning to provide additional capacity will reduce future congestion and enable planned growth | H16: 2 | I16: An additional bridge in the right location will assist this goal | J16: 2 | K16: An additional bridge in the right location will assist with overall system resilience | L16: 2 | M16: An additional bridge in the right location will assist this goal | N16: 2 | O16: An additional bridge in the right location will assist this goal, especially when well planned in advance of construction | P16: 2 | T16: $5-$50m | U16: =IF(T16=0,,(IF(T16='Scaling system'!$F$3,0,(IF(T16='Scaling system'!$F$4,-1,IF(T16='Scaling system'!$F$5,-2,IF(T16='Scaling system'!$F$6,-3))))))) -> -2 | AB16: Once a designation in place it can be difficult and costly to move or change. | AC16: -2 | AF16: Technical investigations are routine, but still significant time and cost. | AG16: -1 | AH16: Requires significant resource, public and political support to achieve designation. | AI16: -2 | AJ16: Expected approach | AK16: 0 | AM16: Can have high impacts on directly affected landowners, and cultural impacts need to be examined. Partly offset by positive impact on community having certainty of location. | AN16: -1 | AO16: An additional bridge in the right location with suitable environmental mitigations becomes a sustainable benefit. | AP16: 2 | AV16: =H16+J16+L16+N16+P16 -> 10 | AW16: =S16 -> 0 | AX16: =U16+AC16+W16+Y16+AA16 -> -4 | AY16: =AG16+AI16+AK16 -> -3 | AZ16: =AN16+AP16 -> 1 | BA16: =SUM(AV16:AZ16) -> 4 | BC16: Progress | BD16: This is an expected requirement for any new infrastructure.
C17: Protect rail corridor for future use | D17: Plan to incorporate future rail use or avoid transport solutions which inhibit future rail corridor development. | E17: =BA17 -> 5 | G17: Contributes to this goal but likely only decades into the future. | H17: 1 | I17: Contributes to this goal but likely only decades into the future. | J17: 1 | K17: Contributes to this goal but likely only decades into the future. | L17: 1 | M17: Contributes to this goal but likely only decades into the future. | N17: 1 | O17: Contributes to this goal but likely only decades into the future. | P17: 1 | T17: < $1m | U17: =IF(T17=0,,(IF(T17='Scaling system'!$F$3,0,(IF(T17='Scaling system'!$F$4,-1,IF(T17='Scaling system'!$F$5,-2,IF(T17='Scaling system'!$F$6,-3))))))) -> 0 | AB17: Maintaining the current corridor available for future use does limit options for Victoria Road use in the medium term. | AC17: -1 | AF17: No effort required to retain existing corridor. | AG17: 0 | AH17: No effort required to retain existing corridor. | AI17: 0 | AJ17: Safety impacts long term if trains run again on the corridor through the urban area. | AK17: -1 | AM17: No impact while corridor is just protected. | AN17: 0 | AO17: Long term a rail link could play a role in mass transit which is a very sustainable transport form. But viability requires high passenger numbers. | AP17: 2 | AV17: =H17+J17+L17+N17+P17 -> 5 | AW17: =S17 -> 0 | AX17: =U17+AC17+W17+Y17+AA17 -> -1 | AY17: =AG17+AI17+AK17 -> -1 | AZ17: =AN17+AP17 -> 2 | BA17: =SUM(AV17:AZ17) -> 5 | BC17: Progress | BD17: This is in the hands of central government and Kiwirail, but Council can seek to plan around retention of the rail corridor.
C18: Stop / restrict growth | D18: Restrict residential and commercial growth in Cambridge to remain within the capacity of current infrastructure and transport services. | E18: =BA18 -> -19 | G18: Does not meet key objective of enabling planned growth | H18: -2 | I18: A no or low growth strategy on its own does not meet this objective | J18: -1 | K18: A no or low growth strategy on its own does not meet this objective | L18: -1 | M18: A no or low growth strategy on its own does not meet this objective | N18: -1 | O18: A no or low growth strategy on its own may lessen impacts | P18: 1 | T18: $1-$5m | U18: =IF(T18=0,,(IF(T18='Scaling system'!$F$3,0,(IF(T18='Scaling system'!$F$4,-1,IF(T18='Scaling system'!$F$5,-2,IF(T18='Scaling system'!$F$6,-3))))))) -> -1 | AB18: Legal requirement to provide for growth. Planning for low or no growth will leave the community vulnerable when growth invariably occurs. | AC18: -3 | AF18: Accommodating unexpected growth would be challenging. | AG18: -2 | AH18: NPS-UD requires Council to provide for 30 yrs' of growth. | AI18: -3 | AJ18: Lack of planning is likely to lead to poorer safety outcomes. | AK18: -2 | AM18: Lack of planning is likely to lead to poorer social and cultural outcomes. | AN18: -2 | AO18: Lack of planning is likely to lead to poorer environmental outcomes. | AP18: -2 | AV18: =H18+J18+L18+N18+P18 -> -4 | AW18: =S18 -> 0 | AX18: =U18+AC18+W18+Y18+AA18 -> -4 | AY18: =AG18+AI18+AK18 -> -7 | AZ18: =AN18+AP18 -> -4 | BA18: =SUM(AV18:AZ18) -> -19 | BC18: Park | BD18: Provision for a prescribed level of growth is mandated by central government through the National Policy Statement - Urban Development. Council is therefore unable to stop or restrict growth. However, there are sufficient growth cells provided for Cambridge to grow over the next 30 years, so additional land does not need to be found.
B19: Walking, cycling and micro-mobility | C19: Implement design standards for kerbs and intersections for mobility users | D19: Upgrade intersection kerbs and paths to ensure they can be easily used by pedestrians and those with mobility aids. | E19: =BA19 -> 4 | G19: No change | H19: 0 | I19: Improves accessibility by non-car modes | J19: 1 | K19: No change | L19: 0 | M19: Improves safety for users | N19: 2 | O19: No change | P19: 0 | T19: $1-$5m | U19: =IF(T19=0,,(IF(T19='Scaling system'!$F$3,0,(IF(T19='Scaling system'!$F$4,-1,IF(T19='Scaling system'!$F$5,-2,IF(T19='Scaling system'!$F$6,-3))))))) -> -1 | AB19: BAU type activity | AC19: 1 | AF19: Good technical standards exist. It can sometimes be challenging implementing them around existing infrastructure. | AG19: -1 | AH19: No consenting required | AI19: 0 | AJ19: No impact | AK19: 0 | AM19: Improved social cohesion through improved access | AN19: 1 | AO19: Small improvement | AP19: 1 | AV19: =H19+J19+L19+N19+P19 -> 3 | AW19: =S19 -> 0 | AX19: =U19+AC19+W19+Y19+AA19 -> 0 | AY19: =AG19+AI19+AK19 -> -1 | AZ19: =AN19+AP19 -> 2 | BA19: =SUM(AV19:AZ19) -> 4 | BC19: Progress | BD19: This is an expected requirement for any new infrastructure.
C20: Improve cycling and micro-mobility policies | D20: Establish policies and good practice which improve safety and the attractiveness of these modes. | E20: =BA20 -> 7 | G20: Assists with aligning land use and transport | H20: 1 | I20: Improves accessibility by non-car modes | J20: 1 | K20: No change | L20: 0 | M20: Improves safety for users | N20: 2 | O20: No change | P20: 0 | T20: < $1m | U20: =IF(T20=0,,(IF(T20='Scaling system'!$F$3,0,(IF(T20='Scaling system'!$F$4,-1,IF(T20='Scaling system'!$F$5,-2,IF(T20='Scaling system'!$F$6,-3))))))) -> 0 | AB20: Can be easily changed | AC20: 2 | AF20: BAU type activity, likely to be good examples able to be adopted | AG20: 0 | AH20: Potentially District Plan changes as one means of publishing policies, bylaw is another. | AI20: -1 | AJ20: No impact | AK20: 0 | AM20: Positive social impacts where change can be widely supported by communities | AN20: 1 | AO20: Small improvement | AP20: 1 | AV20: =H20+J20+L20+N20+P20 -> 4 | AW20: =S20 -> 0 | AX20: =U20+AC20+W20+Y20+AA20 -> 2 | AY20: =AG20+AI20+AK20 -> -1 | AZ20: =AN20+AP20 -> 2 | BA20: =SUM(AV20:AZ20) -> 7 | BC20: Progress | BD20: Progress to shortlist consideration.
A21: DEMAND MANAGEMENT | B21: CBD / Town Centre | C21: Restrict delivery hours in the CBD | D21: Use bylaw process to set delivery hour rules and enforce. | E21: =BA21 -> 1 | G21: Small benefit to congestion management | H21: 1 | I21: Small benefit to all road users | J21: 1 | K21: No change | L21: 0 | M21: No change | N21: 0 | O21: No change | P21: 0 | T21: < $1m | U21: =IF(T21=0,,(IF(T21='Scaling system'!$F$3,0,(IF(T21='Scaling system'!$F$4,-1,IF(T21='Scaling system'!$F$5,-2,IF(T21='Scaling system'!$F$6,-3))))))) -> 0 | AB21: Can be easily changed | AC21: 2 | AF21: Presents some challenges to create an effective regime | AG21: -1 | AH21: Requires broad business and freight carrier support, difficult to enforce | AI21: -2 | AJ21: No impact | AK21: 0 | AM21: No impact | AN21: 0 | AO21: No impact | AP21: 0 | AV21: =H21+J21+L21+N21+P21 -> 2 | AW21: =S21 -> 0 | AX21: =U21+AC21+W21+Y21+AA21 -> 2 | AY21: =AG21+AI21+AK21 -> -3 | AZ21: =AN21+AP21 -> 0 | BA21: =SUM(AV21:AZ21) -> 1 | BC21: Progress | BD21: Progress to shortlist consideration.
B22: Freight management | C22: Consolidate waste collection services | D22: Reduce trucks in residential streets by having one waste collection service. | E22: =BA22 -> 3 | G22: Small reduction in trucks on streets | H22: 1 | I22: No impact | J22: 0 | K22: No impact | L22: 0 | M22: No Change | N22: 0 | O22: Small reduction in trucks on streets | P22: 1 | T22: $1-$5m | U22: =IF(T22=0,,(IF(T22='Scaling system'!$F$3,0,(IF(T22='Scaling system'!$F$4,-1,IF(T22='Scaling system'!$F$5,-2,IF(T22='Scaling system'!$F$6,-3))))))) -> -1 | AB22: BAU type activity | AC22: 1 | AF22: BAU type activity | AG22: 0 | AH22: BAU type activity | AI22: 0 | AJ22: Neutral | AK22: 0 | AM22: No impact | AN22: 0 | AO22: Small improvement | AP22: 1 | AV22: =H22+J22+L22+N22+P22 -> 2 | AW22: =S22 -> 0 | AX22: =U22+AC22+W22+Y22+AA22 -> 0 | AY22: =AG22+AI22+AK22 -> 0 | AZ22: =AN22+AP22 -> 1 | BA22: =SUM(AV22:AZ22) -> 3 | BC22: Progress | BD22: Progress to shortlist consideration.
C23: Rail freight | D23: Establish a rail freight terminal in or near Cambridge or Hautapu, upgrade line to accommodate additional trains. | E23: =BA23 -> -2 | G23: Small reduction in trucks on streets, note a local freight-rail hub competes with two close by in Hamilton. | H23: 1 | I23: No impact | J23: 0 | K23: No impact | L23: 0 | M23: Minor impact | N23: 0 | O23: Small reduction in trucks on streets | P23: 1 | T23: $5-$50m | U23: =IF(T23=0,,(IF(T23='Scaling system'!$F$3,0,(IF(T23='Scaling system'!$F$4,-1,IF(T23='Scaling system'!$F$5,-2,IF(T23='Scaling system'!$F$6,-3))))))) -> -2 | AB23: Large investment in one location, potential to assist long term passenger transport | AF23: Would require a range of infrastructure including structures, signaling, road crossings | AG23: -2 | AH23: Requires broad business and freight carrier support, difficult to enforce | AI23: -1 | AJ23: No impact | AK23: 0 | AM23: No impact | AN23: 0 | AO23: Small improvement | AP23: 1 | AV23: =H23+J23+L23+N23+P23 -> 2 | AW23: =S23 -> 0 | AX23: =U23+AC23+W23+Y23+AA23 -> -2 | AY23: =AG23+AI23+AK23 -> -3 | AZ23: =AN23+AP23 -> 1 | BA23: =SUM(AV23:AZ23) -> -2 | BC23: Park | BD23: Large rail/ road freight hubs exist in Hamilton and it would appear counter-intuitive to duplicate this investment for a smaller centre at very high cost. This is not precluded in the long term, noting this is the responsibility of central government and Kiwirail.
A24: DEMAND MANAGEMENT CONT… | B24: Freight management cont… | C24: Designate freight routes / keep freight out of town | D24: Establish routes that are able to be used for local freight within the town and use physical and legal restrictions to discourage long haul freight. | E24: =BA24 -> 1 | G24: A small reduction in congestion | H24: 1 | I24: No impact | J24: 0 | K24: No impact | L24: 0 | M24: Minor impact | N24: 0 | O24: Some improvement for residents on some streets through reduction in truck traffic | P24: 1 | T24: $1-$5m | U24: =IF(T24=0,,(IF(T24='Scaling system'!$F$3,0,(IF(T24='Scaling system'!$F$4,-1,IF(T24='Scaling system'!$F$5,-2,IF(T24='Scaling system'!$F$6,-3))))))) -> -1 | AB24: Can be easily changed | AC24: 2 | AF24: Challenging to retain locally needed freight access while discouraging long haul freight. | AG24: -2 | AH24: Likely to be challenged by freight industry as it will increase costs for some producers and carriers. | AI24: -2 | AJ24: No impact | AK24: 0 | AM24: Small improvement | AN24: 1 | AO24: Small improvement | AP24: 1 | AV24: =H24+J24+L24+N24+P24 -> 2 | AW24: =S24 -> 0 | AX24: =U24+AC24+W24+Y24+AA24 -> 1 | AY24: =AG24+AI24+AK24 -> -4 | AZ24: =AN24+AP24 -> 2 | BA24: =SUM(AV24:AZ24) -> 1 | BC24: Progress | BD24: Progress to shortlist consideration.
C25: Increase truck weight limits on specific routes | D25: Specific freight routes and bridges are constructed to accommodate heavier trucks making the freight function more efficiently. | E25: =BA25 -> 5 | G25: Improves freight route reliability and efficiency. | H25: 2 | I25: Improves assess to and productivity of economic activity areas | J25: 1 | K25: Higher load carrying roads and structures will be more resilient and require less disruptive maintenance. | L25: 2 | M25: Higher quality roads can be engineered to a higher safety standard. | N25: 1 | O25: Specified routes could restrict the impacts of trucks on other roads and residents int he town. | P25: 1 | T25: $5-$50m | U25: =IF(T25=0,,(IF(T25='Scaling system'!$F$3,0,(IF(T25='Scaling system'!$F$4,-1,IF(T25='Scaling system'!$F$5,-2,IF(T25='Scaling system'!$F$6,-3))))))) -> -2 | AB25: Large investment in one location, may not be adaptive to change | AC25: -1 | AF25: Technically possible and common practice | AG25: 0 | AH25: Residents near specified freight routes may object to concentrating large truck movements near them. E.g. if a District Plan change is required to designate freight routes. | AI25: -2 | AJ25: Safety can be engineered. | AK25: 0 | AM25: Has potential to impact one locality but reduce impacts across wider groups of the community. | AN25: 1 | AO25: Concentrating investment and engineering to manage effects in one area is a better outcome than distributed costs and effects. | AP25: 2 | AV25: =H25+J25+L25+N25+P25 -> 7 | AW25: =S25 -> 0 | AX25: =U25+AC25+W25+Y25+AA25 -> -3 | AY25: =AG25+AI25+AK25 -> -2 | AZ25: =AN25+AP25 -> 3 | BA25: =SUM(AV25:AZ25) -> 5 | BC25: Progress | BD25: Progress to shortlist consideration.
B26: Manage demand | C26: Carpooling for school and work trips | D26: Promote and incentivize car pooling apps and usage. | E26: =BA26 -> 6 | G26: Likely to only produce a small reduction in congestion | H26: 1 | I26: Likely to only produce a small improvement in accessibility | J26: 1 | K26: No impact | L26: 0 | M26: No impact | N26: 0 | O26: Minimal impact on community or environment | P26: 1 | T26: < $1m | U26: =IF(T26=0,,(IF(T26='Scaling system'!$F$3,0,(IF(T26='Scaling system'!$F$4,-1,IF(T26='Scaling system'!$F$5,-2,IF(T26='Scaling system'!$F$6,-3))))))) -> 0 | AB26: Can be easily changed | AC26: 2 | AF26: Apps exist now and car pooling will be happening now, so technically easy | AG26: 0 | AH26: No consenting required | AI26: 0 | AJ26: Personal safety concerns will discourage some people taking up this idea. | AK26: -1 | AM26: Small improvement | AN26: 1 | AO26: Small improvement | AP26: 1 | AV26: =H26+J26+L26+N26+P26 -> 3 | AW26: =S26 -> 0 | AX26: =U26+AC26+W26+Y26+AA26 -> 2 | AY26: =AG26+AI26+AK26 -> -1 | AZ26: =AN26+AP26 -> 2 | BA26: =SUM(AV26:AZ26) -> 6 | BC26: Progress | BD26: Progress to shortlist consideration.
C27: Tolling | D27: Place tolls on private car and truck use to manage demand and recover costs of new infrastructure, particularly a new bridge. | E27: =BA27 -> -2 | G27: Tolled routes will are generally more reliable with less congestion but can create greater congestion on nearby untolled routes. | H27: 1 | I27: Tolls typically suitable for major routes over longer distances and therefore less likely to improve local accessibility | J27: 1 | K27: Would support an additional route across the river and hence improved resilience | L27: 2 | M27: Likely to improve safety on the new tolled part of the network. | N27: 1 | O27: Potential to confine transport impacts to key routes, thus reducing overall community impact. | P27: 1 | T27: $5-$50m | U27: =IF(T27=0,,(IF(T27='Scaling system'!$F$3,0,(IF(T27='Scaling system'!$F$4,-1,IF(T27='Scaling system'!$F$5,-2,IF(T27='Scaling system'!$F$6,-3))))))) -> -2 | AB27: Typically locks in a long term asset and loan repayment, so not flexible. | AC27: -2 | AF27: Technology in use in NZ now but managed at a national not a local level. | AG27: 0 | AH27: Requires specific central government approvals and not typically approved for non-national highway infrastructure projects. NZTA has demonstrated that tolls will only fund a small portion of CAPEX costs. | AI27: -3 | AJ27: No impact | AK27: 0 | AM27: Significant new road impacting surrounding properties. | AN27: -1 | AO27: Increased VKT but benefits for all transport modes | AP27: 0 | AV27: =H27+J27+L27+N27+P27 -> 6 | AW27: =S27 -> 0 | AX27: =U27+AC27+W27+Y27+AA27 -> -4 | AY27: =AG27+AI27+AK27 -> -3 | AZ27: =AN27+AP27 -> -1 | BA27: =SUM(AV27:AZ27) -> -2 | BC27: Park | BD27: Tolling is currently not available for local government so would need a change to legislation. This options could be taken forward if legislative change occurs. It is noted that NZTA business cases for Roads of National Significance suggest that tolls are likely to only cover a small proportion of CAPEX and OPEX costs of new infrastructure.
C28: Flexible school hours | D28: Coordinate staggered start and end hours across all Cambridge schools to reduce peak car travel on the network. | E28: =BA28 -> 9 | G28: Would reduce congestion at morning and afternoon peak travel times | H28: 1 | I28: Improves morning commute times for workers and improves access to schools as key community destinations | J28: 1 | K28: No impact | L28: 0 | M28: Small improvement through less congestion near schools | N28: 1 | O28: Potential to improve parking supply/ demand near schools | P28: 1 | T28: < $1m | U28: =IF(T28=0,,(IF(T28='Scaling system'!$F$3,0,(IF(T28='Scaling system'!$F$4,-1,IF(T28='Scaling system'!$F$5,-2,IF(T28='Scaling system'!$F$6,-3))))))) -> 0 | AB28: Can be easily changed | AC28: 3 | AF28: Simple communications and coordination required. | AG28: 0 | AH28: No formal consenting required, just support by all schools. | AI28: 0 | AJ28: No impact | AK28: 0 | AM28: An example of community cooperation for wider benefits. | AN28: 1 | AO28: Potential for more efficient travel, less emissions | AP28: 1 | AV28: =H28+J28+L28+N28+P28 -> 4 | AW28: =S28 -> 0 | AX28: =U28+AC28+W28+Y28+AA28 -> 3 | AY28: =AG28+AI28+AK28 -> 0 | AZ28: =AN28+AP28 -> 2 | BA28: =SUM(AV28:AZ28) -> 9 | BC28: Progress | BD28: Progress to shortlist consideration.
C29: Bike libraries | D29: Work with community partners to provide secondhand bikes for students and residents who could not otherwise afford a bike. | E29: =BA29 -> 8 | G29: Unlikely to make a difference to congestion or trip reliability. | H29: 0 | I29: Improves equity of access to town destinations | J29: 2 | K29: No impact | L29: 0 | M29: No impact | N29: 0 | O29: Minimal impact on community or environment | P29: 1 | T29: < $1m | U29: =IF(T29=0,,(IF(T29='Scaling system'!$F$3,0,(IF(T29='Scaling system'!$F$4,-1,IF(T29='Scaling system'!$F$5,-2,IF(T29='Scaling system'!$F$6,-3))))))) -> 0 | AB29: Can be easily changed | AC29: 3 | AF29: Simple communications and coordination required. | AG29: 0 | AH29: No formal consenting required, just partner support. | AI29: 0 | AJ29: No impact | AK29: 0 | AM29: An example of community cooperation for wider benefits. | AN29: 1 | AO29: Potential for more efficient travel, less emissions | AP29: 1 | AV29: =H29+J29+L29+N29+P29 -> 3 | AW29: =S29 -> 0 | AX29: =U29+AC29+W29+Y29+AA29 -> 3 | AY29: =AG29+AI29+AK29 -> 0 | AZ29: =AN29+AP29 -> 2 | BA29: =SUM(AV29:AZ29) -> 8 | BC29: Progress | BD29: Progress to shortlist consideration.
C30: Bike / micro-mobility / car hire schemes | D30: Commercially run hire schemes for a range of transport modes. | E30: =BA30 -> 7 | G30: Unlikely to make a difference to congestion or trip reliability. | H30: 0 | I30: Improves equity of access to town destinations | J30: 2 | K30: No impact | L30: 0 | M30: No impact | N30: 0 | O30: Minor positive impact on congestion and parking impacts | P30: 1 | T30: < $1m | U30: =IF(T30=0,,(IF(T30='Scaling system'!$F$3,0,(IF(T30='Scaling system'!$F$4,-1,IF(T30='Scaling system'!$F$5,-2,IF(T30='Scaling system'!$F$6,-3))))))) -> 0 | AB30: Can be easily changed | AC30: 3 | AF30: Technology in use in NZ now. | AG30: 0 | AH30: Simple licensing or Bylaw rules required to govern use and parking in public places | AI30: 0 | AJ30: Some concerns with inappropriate use of hire micro-mobility devices, but these concerns are reducing with good controls | AK30: -1 | AM30: Small benefit from improved mobility and vehicle access | AN30: 1 | AO30: Potential for more efficient travel, less emissions | AP30: 1 | AV30: =H30+J30+L30+N30+P30 -> 3 | AW30: =S30 -> 0 | AX30: =U30+AC30+W30+Y30+AA30 -> 3 | AY30: =AG30+AI30+AK30 -> -1 | AZ30: =AN30+AP30 -> 2 | BA30: =SUM(AV30:AZ30) -> 7 | BC30: Progress | BD30: Progress to shortlist consideration.
B31: Manage demand cont… | C31: Promotion of public transport, cycling, education and behaviour change programmes | D31: Through a comprehensive programme, promote benefits of alternate modes to encourage a switch to healthy and sustainable travel. | E31: =BA31 -> 9 | G31: Over time, promotion is shown to improve mode change, alongside cost incentives, assisting to manage congestion | H31: 1 | I31: Needs to happen in tandem with bus and micro-mobility infrastructure, and then access is improved. | J31: 1 | K31: Effective mode shift programmes assist improved system resilience | L31: 1 | M31: No impact | N31: 0 | O31: Potential to reduce travel impacts, parking demand and support vibrant communities | P31: 1 | T31: < $1m | U31: =IF(T31=0,,(IF(T31='Scaling system'!$F$3,0,(IF(T31='Scaling system'!$F$4,-1,IF(T31='Scaling system'!$F$5,-2,IF(T31='Scaling system'!$F$6,-3))))))) -> 0 | AB31: Can be easily changed | AC31: 3 | AF31: Common technical approach available | AG31: 0 | AH31: No formal consenting required, just partner support. | AI31: 0 | AJ31: No impact | AK31: 0 | AM31: An example of community cooperation for wider benefits. | AN31: 1 | AO31: Potential for more efficient travel, less emissions | AP31: 1 | AV31: =H31+J31+L31+N31+P31 -> 4 | AW31: =S31 -> 0 | AX31: =U31+AC31+W31+Y31+AA31 -> 3 | AY31: =AG31+AI31+AK31 -> 0 | AZ31: =AN31+AP31 -> 2 | BA31: =SUM(AV31:AZ31) -> 9 | BC31: Progress | BD31: Progress to shortlist consideration.
B32: Walking, cycling and micro-mobility | C32: De-prioritise walking and cycling | D32: Prioritise vehicle traffic and make no further investment or remove priority walking and cycling infrastructure. | E32: =BA32 -> -22 | G32: Unlikely to make a significant difference to main traffic routes | H32: 0 | I32: Traffic growth will reduce access ease by non-vehicle modes | J32: -2 | K32: Minor reduction in resilience | L32: -1 | M32: Likely to lead to increased injuries to pedestrians and cyclists | N32: -2 | O32: Increased vehicle use, decreased vibrancy | P32: -2 | T32: $1-$5m | U32: =IF(T32=0,,(IF(T32='Scaling system'!$F$3,0,(IF(T32='Scaling system'!$F$4,-1,IF(T32='Scaling system'!$F$5,-2,IF(T32='Scaling system'!$F$6,-3))))))) -> -1 | AB32: Locks in car centric infrastructure | AC32: -2 | AF32: Technically possible | AG32: 0 | AH32: Likely to face significant public challenge | AI32: -3 | AJ32: Would not meet legal test of reasonableness | AK32: -3 | AM32: Adversely affects part of the community | AN32: -3 | AO32: Adverse effects | AP32: -3 | AV32: =H32+J32+L32+N32+P32 -> -7 | AW32: =S32 -> 0 | AX32: =U32+AC32+W32+Y32+AA32 -> -3 | AY32: =AG32+AI32+AK32 -> -6 | AZ32: =AN32+AP32 -> -6 | BA32: =SUM(AV32:AZ32) -> -22 | BC32: Park | BD32: It is not reasonable or safe to prioritise vehicle travel over all other forms of transport.
A33: DEMAND MANAGEMENT CONT… | B33: Walking, cycling and micro-mobility cont… | C33: Bike / micro-mobility parking and charging facilities | D33: Provide end of journey facilities required to allow uptake of micro-mobility, e.g. secure parking, personal security, charging and maintenance services. | E33: =BA33 -> 6 | G33: Unlikely to make a difference to congestion or trip reliability. | H33: 0 | I33: Allows or promotes alternate mode travel to key destinations. | J33: 2 | K33: Effective mode shift programmes assist improved system resilience | L33: 1 | M33: Benefit to public safety and security when parking zones are surveilled | N33: 1 | O33: Potential to reduce travel impacts, parking demand and support vibrant communities | P33: 1 | T33: $1-$5m | U33: =IF(T33=0,,(IF(T33='Scaling system'!$F$3,0,(IF(T33='Scaling system'!$F$4,-1,IF(T33='Scaling system'!$F$5,-2,IF(T33='Scaling system'!$F$6,-3))))))) -> -1 | AB33: Can be changed | AC33: 2 | AF33: Common technical approach available | AG33: 0 | AH33: Potentially require building and land use consents for facilities of scale. E.g. covered parking facilities. | AI33: -1 | AJ33: No impact | AK33: 0 | AM33: No impact | AN33: 0 | AO33: Potential for more efficient travel, less emissions | AP33: 1 | AV33: =H33+J33+L33+N33+P33 -> 5 | AW33: =S33 -> 0 | AX33: =U33+AC33+W33+Y33+AA33 -> 1 | AY33: =AG33+AI33+AK33 -> -1 | AZ33: =AN33+AP33 -> 1 | BA33: =SUM(AV33:AZ33) -> 6 | BC33: Progress | BD33: Progress to shortlist consideration.
B34: Public transport services | C34: Don't invest in public transport | D34: Prioritise vehicle traffic and make no further investment or reduce investment in public transport. | E34: =BA34 -> -19 | G34: A reduction in proportion of PT trips as population grows and increasing congestion | H34: -1 | I34: A gradual decline in accessibility for residents without access to cars. | J34: -2 | K34: Minor reduction in resilience | L34: -1 | M34: Likely to lead to increased injuries | N34: -1 | O34: Increased vehicle use, decreased vibrancy | P34: -1 | T34: < $1m | U34: =IF(T34=0,,(IF(T34='Scaling system'!$F$3,0,(IF(T34='Scaling system'!$F$4,-1,IF(T34='Scaling system'!$F$5,-2,IF(T34='Scaling system'!$F$6,-3))))))) -> 0 | AB34: Locks in car centric culture and infrastructure | AC34: -2 | AF34: Technically possible | AG34: 0 | AH34: Likely to face significant public challenge | AI34: -3 | AJ34: Would not meet legal test of reasonableness | AK34: -2 | AM34: Adversely affects part of the community | AN34: -3 | AO34: Adverse effects | AP34: -3 | AV34: =H34+J34+L34+N34+P34 -> -6 | AW34: =S34 -> 0 | AX34: =U34+AC34+W34+Y34+AA34 -> -2 | AY34: =AG34+AI34+AK34 -> -5 | AZ34: =AN34+AP34 -> -6 | BA34: =SUM(AV34:AZ34) -> -19 | BC34: Park | BD34: It is not reasonable or sustainable to stop public transport services. It is noted that providing public transport services is the responsibility of Waikato Regional Council, not Waipā District Council.
C35: Promote mobility transport services | D35: Promote use of taxi, uber, community shuttles and disability support transport options. | E35: =BA35 -> 10 | G35: No impact | H35: 0 | I35: Positive impact for residents without access to private vehicles | J35: 2 | K35: No impact | L35: 0 | M35: No impact | N35: 0 | O35: Minor improvement to community inclusiveness through increased ability to travel. | P35: 1 | T35: < $1m | U35: =IF(T35=0,,(IF(T35='Scaling system'!$F$3,0,(IF(T35='Scaling system'!$F$4,-1,IF(T35='Scaling system'!$F$5,-2,IF(T35='Scaling system'!$F$6,-3))))))) -> 0 | AB35: Can be changed | AC35: 3 | AF35: Exists currently at a basic level | AG35: 0 | AH35: No impact | AI35: 0 | AJ35: No impact | AK35: 0 | AM35: Positive social impacts where mobility services can be widely supported by communities | AN35: 3 | AO35: Reliant on motor vehicles but with lesser impacts where services are shared | AP35: 1 | AV35: =H35+J35+L35+N35+P35 -> 3 | AW35: =S35 -> 0 | AX35: =U35+AC35+W35+Y35+AA35 -> 3 | AY35: =AG35+AI35+AK35 -> 0 | AZ35: =AN35+AP35 -> 4 | BA35: =SUM(AV35:AZ35) -> 10 | BC35: Progress | BD35: Progress to shortlist consideration.
A36: BEST USE OF EXISTING NETWORK | B36: CBD / Town centre | C36: Improve alternate travel modes to CBD | D36: Prioritise alternate mode connections to the CBD, e.g. bus routes and micro-mobility paths connections to CBD. | E36: =BA36 -> 6 | G36: Assists in managing car congestion in CBD | H36: 1 | I36: Positive impact for residents without access to private vehicles | J36: 2 | K36: May reduce dependency on vehicle corridors for access | L36: 1 | M36: Improves safety for increasing population to access CBD | N36: 1 | O36: Supports vibrant centre, parking demand management | P36: 2 | T36: $5-$50m | U36: =IF(T36=0,,(IF(T36='Scaling system'!$F$3,0,(IF(T36='Scaling system'!$F$4,-1,IF(T36='Scaling system'!$F$5,-2,IF(T36='Scaling system'!$F$6,-3))))))) -> -2 | AB36: Relatively easily changed infrastructure. | AC36: 2 | AF36: Retrofitting walking, cycling bus facilities into existing environment can be challenging. | AG36: -2 | AH36: Likely to face some public challenge unless integrated with wider bus improvements and behaviour change | AI36: -2 | AJ36: No impact | AK36: 0 | AM36: Positive social impacts from improved access, a more vibrant CBD | AN36: 1 | AO36: More efficient travel, less emissions, enhanced amenity | AP36: 2 | AV36: =H36+J36+L36+N36+P36 -> 7 | AW36: =S36 -> 0 | AX36: =U36+AC36+W36+Y36+AA36 -> 0 | AY36: =AG36+AI36+AK36 -> -4 | AZ36: =AN36+AP36 -> 3 | BA36: =SUM(AV36:AZ36) -> 6 | BC36: Progress | BD36: Progress to shortlist consideration.
C37: Improve traffic flow around CBD | D37: Change intersection priorities and utilise existing streets to move more traffic around the outside of the CBD. | E37: =BA37 -> -8 | G37: Assists in managing car congestion in CBD | H37: 1 | I37: Positive impact in the CBD but a negative impact on the routes used around the fringe as parking could be reduced and congestion would move. | J37: 0 | K37: Some additional resilience through spreading traffic to more improved routes. | L37: 1 | M37: Provided the new routes were well engineered the change could have a positive safety impact | N37: 1 | O37: Would move higher flows of traffic into predominately residential areas | P37: -1 | T37: $5-$50m | U37: =IF(T37=0,,(IF(T37='Scaling system'!$F$3,0,(IF(T37='Scaling system'!$F$4,-1,IF(T37='Scaling system'!$F$5,-2,IF(T37='Scaling system'!$F$6,-3))))))) -> -2 | AB37: Locks in car centric culture and infrastructure | AC37: -2 | AF37: Complex changes to existing streets around the CBD to accommodate high volumes of traffic | AG37: -2 | AH37: Likely to face public challenge if large volumes of traffic is diverted to alternate streets. | AI37: -2 | AJ37: Some concerns that moving high volumes of traffic to adjacent streets could reduce safety or perception of safety | AK37: -1 | AM37: Positive social impacts from improved access, a more vibrant CBD, offset by negatives of moving traffic to sensitive areas | AN37: 0 | AO37: Potential to encourage more travel and traffic impacts if congestion is reduced | AP37: -1 | AV37: =H37+J37+L37+N37+P37 -> 2 | AW37: =S37 -> 0 | AX37: =U37+AC37+W37+Y37+AA37 -> -4 | AY37: =AG37+AI37+AK37 -> -5 | AZ37: =AN37+AP37 -> -1 | BA37: =SUM(AV37:AZ37) -> -8 | BC37: Progress | BD37: While more negative outcomes than positive, a partial diversion of flow, especially to the east combined with other treatments may still yield a positive outcome.
C38: Pedestrianise part of CBD | D38: Many different options exist, e.g. partial street closures as part of scheme to redirect traffic, full street closures to create a pedestrian precinct or closure to traffic for certain hours, or shared people and vehicle spaces. | E38: =BA38 -> 2 | G38: Supports objective in part provided alternate traffic routes are provided. | H38: 1 | I38: Positive impact in CBD | J38: 1 | K38: Reduces resilience in small part unless alternate routes are adequate. | L38: 0 | M38: Improves safety for pedestrians | N38: 1 | O38: Supports vibrant centre, improves town centre environment | P38: 3 | T38: $1-$5m | U38: =IF(T38=0,,(IF(T38='Scaling system'!$F$3,0,(IF(T38='Scaling system'!$F$4,-1,IF(T38='Scaling system'!$F$5,-2,IF(T38='Scaling system'!$F$6,-3))))))) -> -1 | AB38: Often combined with significant landscaping improvement. Can be changed but generally investments of this type have a long life. | AC38: -2 | AF38: Change and working in a busy environment can be challenging | AG38: -2 | AH38: Likely to face some public challenge | AI38: -2 | AJ38: No impact | AK38: 0 | AM38: Positive social impacts from improved access, a more vibrant CBD | AN38: 1 | AO38: Common approach to improve environmental conditions in traffic dominated CBD areas | AP38: 2 | AV38: =H38+J38+L38+N38+P38 -> 6 | AW38: =S38 -> 0 | AX38: =U38+AC38+W38+Y38+AA38 -> -3 | AY38: =AG38+AI38+AK38 -> -4 | AZ38: =AN38+AP38 -> 3 | BA38: =SUM(AV38:AZ38) -> 2 | BC38: Progress | BD38: Progress to shortlist consideration.
C39: Provide separate cycle paths in CBD | D39: Change parking and traffic lane space to create protected cycle paths through the CBD so there is a continuous corridor through Victoria Street. Would also require priority changes at intersections to improve the safety for pedestrians and cyclists. | E39: =BA39 -> 3 | G39: Provides a reliable transport route for active modes. | H39: 1 | I39: Positive impact for residents without access to private vehicles | J39: 2 | K39: No impact | L39: 0 | M39: Significant safety improvement over current provision for cyclists in CBD | N39: 3 | O39: Supports vibrant centre, parking demand management | P39: 2 | T39: $5-$50m | U39: =IF(T39=0,,(IF(T39='Scaling system'!$F$3,0,(IF(T39='Scaling system'!$F$4,-1,IF(T39='Scaling system'!$F$5,-2,IF(T39='Scaling system'!$F$6,-3))))))) -> -2 | AB39: With intersection changes, likely to be a substantial investment | AC39: -2 | AF39: Retrofitting cycling facilities into existing enviroment can be challenging. | AG39: -2 | AH39: Likely to face some public challenge | AI39: -2 | AJ39: No impact | AK39: 0 | AM39: Positive social impacts from improved access, a more vibrant CBD | AN39: 1 | AO39: Common approach to improve environmental conditions in traffic dominated CBD areas | AP39: 2 | AV39: =H39+J39+L39+N39+P39 -> 8 | AW39: =S39 -> 0 | AX39: =U39+AC39+W39+Y39+AA39 -> -4 | AY39: =AG39+AI39+AK39 -> -4 | AZ39: =AN39+AP39 -> 3 | BA39: =SUM(AV39:AZ39) -> 3 | BC39: Progress | BD39: Progress to shortlist consideration.
C40: Remove through traffic from CBD | D40: Change parking, traffic space and intersections to significantly discourage through traffic from Victoria Streets. Could be combined with other town centre improvements. | E40: =BA40 -> -5 | G40: Only possible if travel demand measures and alternate route capacity improvements provided at the same time to re route the traffic around the CBD. | H40: -2 | I40: Improves access for alternate modes but makes car access more difficult. | J40: 1 | K40: Reduces resilience and likely to have significant effect on emergency services in current locations | L40: -2 | M40: Improves safety for pedestrians | N40: 1 | O40: Supports vibrant centre, improves town centre environment | P40: 2 | T40: $5-$50m | U40: =IF(T40=0,,(IF(T40='Scaling system'!$F$3,0,(IF(T40='Scaling system'!$F$4,-1,IF(T40='Scaling system'!$F$5,-2,IF(T40='Scaling system'!$F$6,-3))))))) -> -2 | AB40: With intersection changes, likely to be a substantial investment | AC40: -2 | AF40: Redirecting traffic to other streets and making changes will be challenging. | AG40: -2 | AH40: Likely to face some public challenge | AI40: -2 | AJ40: No impact | AK40: 0 | AM40: Positive social impacts from improved access, a more vibrant CBD | AN40: 1 | AO40: Common approach to improve environmental conditions in traffic dominated CBD areas | AP40: 2 | AV40: =H40+J40+L40+N40+P40 -> 0 | AW40: =S40 -> 0 | AX40: =U40+AC40+W40+Y40+AA40 -> -4 | AY40: =AG40+AI40+AK40 -> -4 | AZ40: =AN40+AP40 -> 3 | BA40: =SUM(AV40:AZ40) -> -5 | BC40: Park | BD40: Difficult to consider progressing this option while all emergency services rely heavily on Victoria Street for rapid access. Note that a number of ideas do consider increasing the place-based function of streets through the town centre and these will be considered as transport options are developed.
A41: BEST USE OF EXISTING NETWORK CONT… | B41: CBD / Town centre cont… | C41: Upgrade Cambridge CBD | D41: The ideas submitted related to reducing traffic in the CBD, improving footpaths and ambulance services, so this can be removed as is captured in other idea lines. | E41: =BA41 -> 0 | U41: =IF(T41=0,,(IF(T41='Scaling system'!$F$3,0,(IF(T41='Scaling system'!$F$4,-1,IF(T41='Scaling system'!$F$5,-2,IF(T41='Scaling system'!$F$6,-3))))))) -> 0 | AV41: =H41+J41+L41+N41+P41 -> 0 | AW41: =S41 -> 0 | AX41: =U41+AC41+W41+Y41+AA41 -> 0 | AY41: =AG41+AI41+AK41 -> 0 | AZ41: =AN41+AP41 -> 0 | BA41: =SUM(AV41:AZ41) -> 0 | BC41: Park | BD41: This idea is captured in other options with more specificity (refer rows 36-39 and 42)
...

Sheet Ideas that are parked
A2: List of ideas parked
A4: Theme | B4: Options | C4: Decision | D4: Rationale
A5: Land use and spatial planning | B5: Stop/restrict growth | C5: Park | D5: Provision for a prescribed level of growth is mandated by central government through the National Policy Statement - Urban Development. Council is therefore unable to stop or restrict growth. However, there are sufficient growth cells provided for Cambridge to grow over the next 30 years, so additional land does not need to be found.
A6: Land use and spatial planning | B6: Protect Cambridge's character, green spaces & amenity | C6: Park | D6: Consideration - Impact on reserves and amenity would be considered as part of Social & Cultural Impacts in the assessment criteria.
A7: Environment | B7: Reduce emissions | C7: Park | D7: Consideration - Emissions reduction would be considered as part of assessing contribution to the Investment Objective of "[reducing] the transport system's impacts on surrounding communities and the environment".
A8: Freight management | B8: Rail freight | C8: Park | D8: Large rail/ road freight hubs exist in Hamilton and it would appear counter-intuitive to duplicate this investment for a smaller centre at very high cost. This is not precluded in the long term, noting this is the responsibility of central government and Kiwirail.
A9: Manage demand | B9: Tolling | C9: Park | D9: Tolling is currently not available for local government so would need a change to legislation. This options could be taken forward if legislative change occurs. It is noted that NZTA business cases for Roads of National Significance suggest that tolls are likely to only cover a small proportion of CAPEX and OPEX costs of new infrastructure.
A10: Walking, cycling and micro-mobility | B10: De-prioritise walking and cycling | C10: Park | D10: It is neither reasonable or safe to prioritise vehicle travel over all other forms of transport
A11: Public transport services | B11: Don't invest in public transport | C11: Park | D11: It is neither reasonable or sustainable to stop public transport services. It is noted that providing public transport services is the responsibility of Waikato Regional Council, not Waipā District Council.
A12: CBD / Town centre | B12: Remove through traffic from CBD | C12: Park | D12: Difficult to consider progressing this option while all emergency services rely heavily on Victoria Street for rapid access. Note that a number of ideas do consider increasing the place-based function of streets through the town centre and these will be considered as transport options are developed.
A13: CBD / Town centre | B13: Upgrade Cambridge CBD | C13: Park | D13: This idea is captured in other options with more specificity.
A14: Intersection improvements | B14: Upgrade roundabouts to traffic signals | C14: Park | D14: This idea is covered by improvements promoted at specific intersections
A15: Network management | B15: Improve road pavements | C15: Park | D15: This idea suggests that Cambridge transport improvements should not take the place of business as usual renewal activities. Renewals are a separate activity that will continue and this idea therefore does not need to be carried forward.
... A20: Public transport services | B20: Reinstate rail line - Cambridge to Hamilton | C20: Park | D20: Rail transit services typically require 15,000 trips in commuter peak hours to be financially viable. It is not viable in the planning period for this project.

Sheet Scaling system
B2: 7 Point scale | D2: Scheduling | F2: Cost | H2: Progress?
B3: -3 | D3: 0-2 Years | F3: < $1m | H3: Progress
B4: -2 | D4: 2-5 Years | F4: $1-$5m | H4: Park
B5: -1 | D5: 5+ Years | F5: $5-$50m | H5: Consideration
B6: 0 | F6: $50m+
B7: 1
B8: 2
B9: 3
